Workbook
Name Grupo: #REF!

Sheet Instrucciones
A1: Instrucciones
A2: Revise estas instrucciones para ayudar a completar los cuadros de este documento. Si no se completan los cuadros requeridos (grises), esto podrá generar retrasos en la certificación. Todas las celdas marcadas en gris deben de ser completadas o actualizadas por el operador al completar este documento. Las celdas en azul serán marcadas por el operador y el inspector externo durante la inspección. Leer la hoja llamada Definiciones para asegurarse que cada celda en gris sea llenada correctamente. Para cualquier nuevo productor que ha estado bajo la supervisión del SCI y presentados a OCIA desde su admisión al programa orgánico del grupo, el productor debe mostrar pruebas que no ha utilizado sustancias sintéticas o insumos prohibidos y debe ser inspeccionado internamente por al menos tres años. Después de las tres primeras inspecciones internas y de la primera inspección externa, su cosecha será elegible para la certificación NOP. Indique claramente los productores que han cumplido con tres inspecciones internas y que serán sometidos a una primera inspección externa. Recuerde tener las evidencias que serán presentadas al inspector externo.
A3: ID de OCIA de la Operación:
A4: Nombre del Grupo de Productores Comunitarios (CGG, por sus siglas en Inglés):
A6: Reglas Generales para el Llenado:
A7: Evite utilizar las siguientes letras en los nombres de los productores para evitar errores en los sistemas del NOP (OID) y la UE (TRACES): Á, É, Í, Ó, Ú, á, é, í,ó, ú.
A8: Usted puede añadir datos importantes de cada producto y de su SCI en la columna "Nota 1 al 5". Solo necesita completar las pestañas de los programas para los que solicita certificación.
A9: Para realizar filtros y grupos de productores por cualidades específicas de sus datos, favor de utilizar los filtros de la descripción de los datos de cada columna. Para más información de cómo hacer esto, visite la página de ayuda de Excel: https://support.microsoft.com/es-es/office/filtrar-los-datos-de-una-tabla-o-un-rango-01832226-31b5-4568-8806-38c37dcc180e
A10: El formato de todas las fechas siempre deberá de ser Mes-Dia-Año si su computadora tiene ajustes de lenguaje en Español. Excel detectara automáticamente y es posible que las fechas cambien a Dia-Mes-Año.
A11: Todas las celdas con fondo en blanco están bloqueadas y no deben ser modificadas. Tampoco se tiene permitido modificar el formato de esta documentación al ser estandarizado por las regulaciones.
A12: Algunas hojas son tablas dinamicas (pivot) que se modifican automaticamente. Para refrescar los datos de estas hoja, necesita ir a la pestaña de datos y refrescar todo. Para mas información visite la siguiente liga: https://support.microsoft.com/es-es/excel/get-started/create-a-pivottable-to-analyze-worksheet-data
A13: Todas las celdas con fondo en azul y texto en blanco deben de ser modificadas durante la inspección externa junto con el inspector.
A15: Apéndice 1: Productores NOP (Estados Unidos). | B15: Complete este cuadro para listar a los productores que participan en el programa del United States Department of Agriculture National Organic Program.
A16: Apéndice 1.1: Totales NOP. | B16: Este cuadro se completa automáticamente con la información proporcionada en el Apéndice 1: Productores NOP.
A17: Apéndice 2: Productores UE (Unión Europea). | B17: Las columnas en blanco de esta hoja se actualizan automáticamente con el llenado del Apéndice 1: Productores NOP. Solo será necesario actualizar la columna (gris) de insumos prohibidos si usted solicita la certificación UE.
A18: Apéndice 2.1: Totales UE. | B18: Este cuadro se completa automáticamente con la información proporcionada en el Apéndice 2: Productores UE.
A19: Apéndice 3: Productores LPO (México). | B19: Las columnas en blanco de esta hoja se actualizan automáticamente con el llenado del Apéndice 1: Productores NOP. Solo será necesario actualizar la columna (gris) de insumos prohibidos y la del estimado de producción de frutos si usted solicita la certificación LPO.
A20: Apéndice 3.1: Totales LPO. | B20: Este cuadro se completa automáticamente con la información proporcionada en el Apéndice 3: Productores LPO.
A21: Apéndice 4: Productores RTPO (Perú). | B21: Las columnas en blanco de esta hoja se actualizan automáticamente con el llenado del Apéndice 1: Productores NOP. Favor de llenar la columna T para el programa de RTPO. Además, será necesario actualizar la columna (gris) de insumos prohibidos si usted solicita la certificación UE.
A22: Apéndice 4.1: Totales RTPO. | B22: Este cuadro se completa automáticamente con la información proporcionada en el Apéndice 4: Productores RTPO.
A23: Apéndice 5: Información de los productores retirados en el CGG. | B23: Complete este cuadro para listar a los productores que se hayan retirado del grupo y de todos los programas de este grupo. También será necesario removerlos de los Apéndices 1, 2, 3, 4 y 6.
A24: Apéndice 6: Evaluación de riesgo y sanciones. | B24: Este cuadro debe completarse para que OCIA pueda realizar la evaluación de riesgo que requieren estas regulaciones. Utilice los criterios indicados en esa ficha para completar la evaluación de riesgos y marque las sanciones en esta área.
A25: Apéndice 7: LPO México información de los productores orgánicos. | B25: Si el grupo está solicitando LPO (programa de México), este cuadro se completará automaticamente con la información de los productores orgánicos del Apéndice 3. Productores LPO.
A26: Apéndice 8: Instalaciones y áreas de manejo. | B26: Complete este cuadro para enumerar todas las instalaciones y áreas de manejo bajo el control del grupo.
... A32: Apéndice 14: Reporte de Certificación Retroactiva UE. | B32: Esta pestaña se llenara automáticamente con la información de los productores que fueron marcados como solicitantes de certificación retroactiva en el Apéndice 2. Productores UE.

Sheet Definiciones
A1: Definiciones
A3: Área en Crecimiento: | B3: Se refiere a la extensión de terreno en donde se encuentra un cultivo perenne aún en desarrollo/crecimiento. Para OCIA es importante conocer la extensión ya que un cultivo perenne en crecimiento aún no es productivo por lo que el rendimiento de la cosecha no se puede tomar en cuenta al momento de hacer los cálculos de la cosecha solicitada para certificación de productores que tengan áreas del cultivo en crecimiento o que aún no son productivas.
A4: Área en Producción: | B4: Extensión de terreno en donde se tiene un cultivo perenne o anual completamente establecido y en producción ya sea cosechas cíclicas o continuas, dependiendo del tipo de plantación. El área de producción puede incluir parcelas o tierra orgánica, en conversión o no orgánicas (por ejemplo, destinadas a cultivos de autoconsumo).
A5: Área Total de la Finca: | B5: Se refiere a la Unidad de Producción en su totalidad que abarca la propiedad del productor, incluyendo áreas agrícolas, agropecuarias y no agrícolas como instalaciones de proceso en finca, casa de habitación, almacén, etc. Las áreas agrícolas se refieren a parcelas, campos o grupo de campos, incluyendo aquellos destinados a cultivos de alimentos de autoconsumo.
A6: Auditoria de Balance de Masas: | B6: Herramienta (ejercicio o calculo) que permite rastrear y contabilizar el ingreso y salida de productos pasando por la transformación o manipulación, por ejemplo, el manejo postcosecha en la cual se debe considerar las mermas (perdidas) hasta obtener el producto final. OCIA espera que el Sistema de Control Interno (SCI) brinde capacitaciones a sus productores en la contabilización de su cosecha desde la colecta, el manejo postcosecha hasta el rendimiento final. El SCI debe ser capaz de llevar a cabo un balance de masa de la cosecha solicitada para certificar y apoyar al inspector en brindarle toda la información que le solicite para que el/ella pueda completar el ejercicio.
A7: Auditoria de Trayectoria: | B7: El proceso de identificar y rastrear el movimiento, es decir la trayectoria desde el origen hasta la venta del producto pasando por la custodia, la manipulación y el estado orgánico de un producto agrícola a lo largo de la cadena de suministro que permita asegurar el cumplimiento del producto agrícola con las normativas orgánicas que apliquen. OCIA espera que el SCI sea capaz de llevar a cabo auditorías de trayectoria en los productos de los miembros del grupo y apoye al inspector brindándole la información que solicite para llevar a cabo ejercicios de auditoría de trayectoria bajo cada programa orgánico solicitado para certificación.
A8: Código - Número de Documento Personal: | B8: Se refiere al número de documento personal que identifica a una persona física. Este documento lo emiten las autoridades de los países al cumplir mayoría de edad (por ejemplo, en Perú se podría usar el "Documento Nacional de Identidad (DNI)", en México se podría usar el número de credencial del Institutito Nacional Electoral (INE), en Estados Unidos se podría usar el número de Social Security Number (SSN)". Este número es único e irrepetible para cada persona física, por lo que OCIA consideró importante asignar este número como el código que utilizará un miembro del grupo comunitario y evitar que se cambie constantemente o que se repitan códigos generando confusión.
A9: Estado de la Transición Califica (Cal): | B9: Este estado de la transición describe a aquellos productores que han comenzado el día 1,096 (año 3) de sus 1,096 días (3 años) de transición en el programa orgánico en cuestión. El SCI necesita determinar este estado e informar a OCIA para que OCIA cambie el estado a Orgánico después de determinar cumplimiento.
A10: Estado de la Transición Orgánico (Org): | B10: Este estado de la transición describe a aquellos productores que han sido determinados por OCIA como en cumplimiento con el programa orgánico en cuestión. Este estado solo puede ser elegido por OCIA y no por el SCI.
A11: Estado de la Transición T1: | B11: Este estado de la transición describe a aquellos productores que han comenzado el primero (1) de sus 1,096 días (3 años) de transición en el programa orgánico en cuestión. Esta indica que el productor ha sido admitido al CGG y que ha sido presentado a OCIA para el comienzo de su transición. Esto por motivo de la regulaciones UE y NOP.
A12: Estado de la Transición T2: | B12: Este estado de la transición describe a aquellos productores que han comenzado el día 366 (año 2) de sus 1,096 días (3 años) de transición en el programa orgánico en cuestión.
A13: Estado de la Transición T3: | B13: Este estado de la transición describe a aquellos productores que han comenzado el día 731 (año 2) de sus 1,096 días (3 años) de transición en el programa orgánico en cuestión.
A14: Estado de la Transición: | B14: Se refiere a en que etapa de transición se encuentra el productor y su parcela en cuestión. Las opciones pueden ser T1, T2, T3, Califica, Orgánico o Retirado.
... A43: Sustancia Prohibida: | B43: Una sustancia cuyo uso en cualquier aspecto de la producción o manipulación orgánica está prohibida o no está previsto su uso en las normativas orgánicas. Es de suma importancia que el SCI conozca que los insumos permitidos por algunos programas están prohibidos en otros. Cada normativa de los programas orgánicos que ofrece OCIA cuenta con un listado de sustancias permitidas y prohibidas. El SCI debe ser conocedor de las mismas y capacitar a sus productores. Todas las sustancias que no han sido revisadas y aprobadas para el uso en algún programa orgánico son consideradas prohibidas hasta que su revisión haya sido completada y verificada como en cumplimiento con las normas orgánicas. Por este motivo, los miembros de una CGG deben de esperar a que el SIC verifique si la sustancia está permitida para los programas de certificación antes de usarlas. Los SIC deben de verificar el cumplimiento de la sustancia antes de su compra, distribución y uso por los miembros del CGG.

Sheet 1. Productores NOP
A1: Apéndice 1: Información de Productores NOP CGG. | I1: Nombre del CGG: | K1: =Instrucciones!B4 -> 0
A2: Tome nota que "T1, T2, o T3" es el año 1, 2 o 3 de transición. Las operaciones en "T3" deben ser elegibles para la certificación del Programa NOP durante este ciclo anual. "Org" son aquellos que ya son considerados como certificados orgánicos. "Cal" son los que ya califican para aplicar para certificación orgánica y están siendo presentados a OCIA para verificar su cumplimiento con el programa. El SIC debe de seleccionar el estado apropiado para cada uno de sus miembros y parcelas. Tenga en cuenta que también debe de contar y proporcionar evidencia de que este estado ha sido reconocido por OCIA en el caso de pasar de Califican a Orgánico. En el caso de que algún miembro del CGG tenga más de una parcela, se deberán de tener dos hileras para representar las posibles variables diferentes (P.E: dos estados o georeferenciación diferentes).
C3: Totales Cal | D3: =COUNTIF(N5:N1005,"Cal") -> 0 | E3: Totales T1 | F3: =COUNTIF(N5:N1005,"T1") -> 0 | G3: Totales T2 | H3: =COUNTIF(N5:N1005,"T2") -> 0 | I3: Totales T3 | J3: =COUNTIF(N5:N1005,"T3") -> 0 | K3: Totales Org | L3: =COUNTIF(N5:N1005,"Org") -> 0 | M3: Totales Todos | N3: =COUNTA(E5:E1004) -> 0
A4: # | B4: Código: Número de Documento Personal [p.e. DNI, INE, numero de socio] | C4: PRIMER NOMBRE DEL PRODUCTOR | D4: SEGUNDO NOMBRE DEL PRODUCTOR | E4: PRIMER APELLIDO DEL PRODUCTOR | F4: SEGUNDO APELLIDO DEL PRODUCTOR | G4: NOMBRE DE LA COMUNIDAD O SUBGRUPO | H4: FECHA DE LA ÚLTIMA APLICACIÓN DE INSUMOS PROHIBIDOS | I4: FECHA DE ENTRADA A LA TRANSICIÓN ORGÁNICA | J4: FECHA DE LA PRIMERA INSPECCIÓN INTERNA | K4: FECHA DE LA ULTIMA INSPECCIÓN INTERNA | L4: FECHA DE LA ÚLTIMA INSPECCIÓN EXTERNA | M4: FECHA DE CALIFICACIÓN PARA EL PROGRAMA ORGÁNICO | N4: ESTADO DE LA TRANSICIÓN. | O4: ÁREA TOTAL DE LA FINCA (Ha) | P4: CULTIVO EN PRODUCCIÓN PARALELA O EN PRODUCCIÓN MIXTA (Hectáreas) | Q4: AREA EN PRODUCCIÓN PARALELA O MIXTA (Hectáreas) | R4: Hectáreas de Cultivo en Crecimiento (Solo perennes) | S4: Hectáreas de Cultivo en Producción | T4: Hectáreas con Cultivo Establecido | U4: Número de Campos | V4: Georreferenciación Este-Norte-Altitud | W4: RENDIMIENTOS ESTIMADOS PERGAMINO (kilogramos) | X4: Solo para uso del inspector. Marque con el año (25, 26, 27, etc.) si este productor fue inspeccionado durante la inspección externa. | Y4: Nota 1: | Z4: Nota 2: | AA4: Nota 3: | AB4: Nota 4: | AC4: Nota 5:
A5: 1 | M5: =IF(H5>0,H5+1096,I5+1096) -> 1096 | T5: =SUM(R5+S5) -> 0
A6: 2 | M6: =IF(H6>0,H6+1096,I6+1096) -> 1096 | T6: =SUM(R6+S6) -> 0
A7: 3 | M7: =IF(H7>0,H7+1096,I7+1096) -> 1096 | T7: =SUM(R7+S7) -> 0
A8: 4 | M8: =IF(H8>0,H8+1096,I8+1096) -> 1096 | T8: =SUM(R8+S8) -> 0
A9: 5 | M9: =IF(H9>0,H9+1096,I9+1096) -> 1096 | T9: =SUM(R9+S9) -> 0
A10: 6 | M10: =IF(H10>0,H10+1096,I10+1096) -> 1096 | T10: =SUM(R10+S10) -> 0
A11: 7 | M11: =IF(H11>0,H11+1096,I11+1096) -> 1096 | T11: =SUM(R11+S11) -> 0
A12: 8 | M12: =IF(H12>0,H12+1096,I12+1096) -> 1096 | T12: =SUM(R12+S12) -> 0
A13: 9 | M13: =IF(H13>0,H13+1096,I13+1096) -> 1096 | T13: =SUM(R13+S13) -> 0
A14: 10 | M14: =IF(H14>0,H14+1096,I14+1096) -> 1096 | T14: =SUM(R14+S14) -> 0
A15: 11 | M15: =IF(H15>0,H15+1096,I15+1096) -> 1096 | T15: =SUM(R15+S15) -> 0
A16: 12 | M16: =IF(H16>0,H16+1096,I16+1096) -> 1096 | T16: =SUM(R16+S16) -> 0
... A1004: 1000 | M1004: =IF(H1004>0,H1004+1096,I1004+1096) -> 1096 | T1004: =SUM(R1004+S1004) -> 0

Sheet 1.1 Totales NOP
A1: Esta hoja de calculo no se actualiza automaticamente. Necesita dar click en Pivot Table (Tabla Pivot) y despues Refresh (Actualizar) cuando los datos hayan cambiado
A2: ESTADO DE LA TRANSICIÓN. | B2: Count of ESTADO DE LA TRANSICIÓN. | C2: Sum of Número de Campos | D2: Sum of ÁREA TOTAL DE LA FINCA (Ha)
A3: (blank)
A4: Grand Total

Sheet 2. Productores UE
A1: Apéndice 2: Información de Productores UE CGG. | I1: Nombre del CGG: | K1: =Instrucciones!B4 -> 0
C3: Totales Cal | D3: =COUNTIF(N5:N1004,"Cal") -> 0 | E3: Totales T1 | F3: =COUNTIF(N5:N1004,"T1") -> 0 | G3: Totales T2 | H3: =COUNTIF(N5:N1004,"T2") -> 0 | I3: Totales T3 | J3: =COUNTIF(N5:N1004,"T3") -> 0 | K3: Totales Org | L3: =COUNTIF(N5:N1004,"Org") -> 0 | M3: Totales Todos | N3: =COUNTA('1. Productores NOP'!E5:'1. Productores NOP'!E1004) -> 0
A4: # | B4: Código: Número de Documento Personal | C4: PRIMER NOMBRE DEL PRODUCTOR | D4: SEGUNDO NOMBRE DEL PRODUCTOR | E4: PRIMER APELLIDO DEL PRODUCTOR | F4: SEGUNDO APELLIDO DEL PRODUCTOR | G4: NOMBRE DE LA COMUNIDAD O SUBGRUPO | H4: FECHA DE LA ÚLTIMA APLICACIÓN DE INSUMOS PROHIBIDOS | I4: FECHA DE ENTRADA A LA TRANSICIÓN ORGÁNICA | J4: FECHA DE LA PRIMERA INSPECCIÓN INTERNA | K4: FECHA DE LA ULTIMA INSPECCIÓN INTERNA | L4: FECHA DE LA ÚLTIMA INSPECCIÓN EXTERNA | M4: FECHA DE CALIFICACIÓN PARA EL PROGRAMA ORGÁNICO | N4: ESTADO DE LA TRANSICIÓN. | O4: ÁREA TOTAL DE LA FINCA (Ha) | P4: CULTIVO EN PRODUCCIÓN PARALELA O EN PRODUCCIÓN MIXTA (Hectáreas) | Q4: AREA EN PRODUCCIÓN PARALELA O MIXTA (Hectáreas) | R4: Hectáreas de Cultivo en Crecimiento (Solo perennes) | S4: Hectáreas de Cultivo en Producción (Más de 5.0 Ha corren riesgo de ya no calificar al programa si sus ingresos sobrepasan 25,000 Euros) | T4: Hectáreas con Cultivo Establecido | U4: Número de Campos | V4: Georreferenciación Este-Norte-Altitud | W4: RENDIMIENTOS ESTIMADOS (kilogramos) | X4: Solo para uso del inspector. Marque con el año (25, 26, 27, etc.) si este productor fue inspeccionado durante la inspección externa. | Y4: Indique si está solicitando certificación retroactiva. | Z4: Indique el año si el productor fue parte del programa de muestreo de residuos de plaguicidas. | AA4: Nota 1: | AB4: Nota 2: | AC4: Nota 3: | AD4: Nota 4: | AE4: Nota 5:
A5: 1 | B5: =IF('1. Productores NOP'!B5=0,"",'1. Productores NOP'!B5) | C5: =IF('1. Productores NOP'!C5=0,"",'1. Productores NOP'!C5) | D5: =IF('1. Productores NOP'!D5=0,"",'1. Productores NOP'!D5) | E5: =IF('1. Productores NOP'!E5=0,"",'1. Productores NOP'!E5) | F5: =IF('1. Productores NOP'!F5=0,"",'1. Productores NOP'!F5) | G5: =IF('1. Productores NOP'!G5=0,"",'1. Productores NOP'!G5) | H5: =IF('1. Productores NOP'!H5=0,"",'1. Productores NOP'!H5) | I5: =IF('1. Productores NOP'!I5=0,"",'1. Productores NOP'!I5) | ... M5: =IF('1. Productores NOP'!M5=0,"",'1. Productores NOP'!M5) -> 1096 | O5: =IF('1. Productores NOP'!O5=0,"",'1. Productores NOP'!O5) | P5: =IF('1. Productores NOP'!P5=0,"",'1. Productores NOP'!P5) | Q5: =IF('1. Productores NOP'!Q5=0,"",'1. Productores NOP'!Q5) | R5: =IF('1. Productores NOP'!R5=0,"",'1. Productores NOP'!R5) | S5: =IF('1. Productores NOP'!S5=0,"",'1. Productores NOP'!S5) | T5: =IF('1. Productores NOP'!T5=0,"",'1. Productores NOP'!T5) | U5: =IF('1. Productores NOP'!U5=0,"",'1. Productores NOP'!U5) | V5: =IF('1. Productores NOP'!V5=0,"",'1. Productores NOP'!V5) | W5: =IF('1. Productores NOP'!W5=0,"",'1. Productores NOP'!W5)
A6: 2 | B6: =IF('1. Productores NOP'!B6=0,"",'1. Productores NOP'!B6) | C6: =IF('1. Productores NOP'!C6=0,"",'1. Productores NOP'!C6) | D6: =IF('1. Productores NOP'!D6=0,"",'1. Productores NOP'!D6) | E6: =IF('1. Productores NOP'!F6=0,"",'1. Productores NOP'!F6) | F6: =IF('1. Productores NOP'!F6=0,"",'1. Productores NOP'!F6) | G6: =IF('1. Productores NOP'!G6=0,"",'1. Productores NOP'!G6) | H6: =IF('1. Productores NOP'!H6=0,"",'1. Productores NOP'!H6) | I6: =IF('1. Productores NOP'!I6=0,"",'1. Productores NOP'!I6) | J6: =IF('1. Productores NOP'!J6=0,"",'1. Productores NOP'!J6) | K6: =IF('1. Productores NOP'!K6=0,"",'1. Productores NOP'!K6) | L6: =IF('1. Productores NOP'!L6=0,"",'1. Productores NOP'!L6) | M6: =IF('1. Productores NOP'!M6=0,"",'1. Productores NOP'!M6) -> 1096 | O6: =IF('1. Productores NOP'!O6=0,"",'1. Productores NOP'!O6) | P6: =IF('1. Productores NOP'!P6=0,"",'1. Productores NOP'!P6) | Q6: =IF('1. Productores NOP'!Q6=0,"",'1. Productores NOP'!Q6) | R6: =IF('1. Productores NOP'!R6=0,"",'1. Productores NOP'!R6) | S6: =IF('1. Productores NOP'!S6=0,"",'1. Productores NOP'!S6) | T6: =IF('1. Productores NOP'!T6=0,"",'1. Productores NOP'!T6) | U6: =IF('1. Productores NOP'!U6=0,"",'1. Productores NOP'!U6) | V6: =IF('1. Productores NOP'!V6=0,"",'1. Productores NOP'!V6) | W6: =IF('1. Productores NOP'!W6=0,"",'1. Productores NOP'!W6)
A7: 3 | B7: =IF('1. Productores NOP'!B7=0,"",'1. Productores NOP'!B7) | C7: =IF('1. Productores NOP'!C7=0,"",'1. Productores NOP'!C7) | D7: =IF('1. Productores NOP'!D7=0,"",'1. Productores NOP'!D7) | E7: =IF('1. Productores NOP'!F7=0,"",'1. Productores NOP'!F7) | F7: =IF('1. Productores NOP'!F7=0,"",'1. Productores NOP'!F7) | G7: =IF('1. Productores NOP'!G7=0,"",'1. Productores NOP'!G7) | H7: =IF('1. Productores NOP'!H7=0,"",'1. Productores NOP'!H7) | I7: =IF('1. Productores NOP'!I7=0,"",'1. Productores NOP'!I7) | J7: =IF('1. Productores NOP'!J7=0,"",'1. Productores NOP'!J7) | K7: =IF('1. Productores NOP'!K7=0,"",'1. Productores NOP'!K7) | L7: =IF('1. Productores NOP'!L7=0,"",'1. Productores NOP'!L7) | M7: =IF('1. Productores NOP'!M7=0,"",'1. Productores NOP'!M7) -> 1096 | O7: =IF('1. Productores NOP'!O7=0,"",'1. Productores NOP'!O7) | P7: =IF('1. Productores NOP'!P7=0,"",'1. Productores NOP'!P7) | Q7: =IF('1. Productores NOP'!Q7=0,"",'1. Productores NOP'!Q7) | R7: =IF('1. Productores NOP'!R7=0,"",'1. Productores NOP'!R7) | S7: =IF('1. Productores NOP'!S7=0,"",'1. Productores NOP'!S7) | T7: =IF('1. Productores NOP'!T7=0,"",'1. Productores NOP'!T7) | U7: =IF('1. Productores NOP'!U7=0,"",'1. Productores NOP'!U7) | V7: =IF('1. Productores NOP'!V7=0,"",'1. Productores NOP'!V7) | W7: =IF('1. Productores NOP'!W7=0,"",'1. Productores NOP'!W7)
A8: 4 | B8: =IF('1. Productores NOP'!B8=0,"",'1. Productores NOP'!B8) | C8: =IF('1. Productores NOP'!C8=0,"",'1. Productores NOP'!C8) | D8: =IF('1. Productores NOP'!D8=0,"",'1. Productores NOP'!D8) | E8: =IF('1. Productores NOP'!E8=0,"",'1. Productores NOP'!E8) | F8: =IF('1. Productores NOP'!F8=0,"",'1. Productores NOP'!F8) | G8: =IF('1. Productores NOP'!G8=0,"",'1. Productores NOP'!G8) | H8: =IF('1. Productores NOP'!H8=0,"",'1. Productores NOP'!H8) | I8: =IF('1. Productores NOP'!I8=0,"",'1. Productores NOP'!I8) | ... M8: =IF('1. Productores NOP'!M8=0,"",'1. Productores NOP'!M8) -> 1096 | O8: =IF('1. Productores NOP'!O8=0,"",'1. Productores NOP'!O8) | P8: =IF('1. Productores NOP'!P8=0,"",'1. Productores NOP'!P8) | Q8: =IF('1. Productores NOP'!Q8=0,"",'1. Productores NOP'!Q8) | R8: =IF('1. Productores NOP'!R8=0,"",'1. Productores NOP'!R8) | S8: =IF('1. Productores NOP'!S8=0,"",'1. Productores NOP'!S8) | T8: =IF('1. Productores NOP'!T8=0,"",'1. Productores NOP'!T8) | U8: =IF('1. Productores NOP'!U8=0,"",'1. Productores NOP'!U8) | V8: =IF('1. Productores NOP'!V8=0,"",'1. Productores NOP'!V8) | W8: =IF('1. Productores NOP'!W8=0,"",'1. Productores NOP'!W8)
A9: 5 | B9: =IF('1. Productores NOP'!B9=0,"",'1. Productores NOP'!B9) | C9: =IF('1. Productores NOP'!C9=0,"",'1. Productores NOP'!C9) | D9: =IF('1. Productores NOP'!D9=0,"",'1. Productores NOP'!D9) | E9: =IF('1. Productores NOP'!E9=0,"",'1. Productores NOP'!E9) | F9: =IF('1. Productores NOP'!F9=0,"",'1. Productores NOP'!F9) | G9: =IF('1. Productores NOP'!G9=0,"",'1. Productores NOP'!G9) | H9: =IF('1. Productores NOP'!H9=0,"",'1. Productores NOP'!H9) | I9: =IF('1. Productores NOP'!I9=0,"",'1. Productores NOP'!I9) | ... M9: =IF('1. Productores NOP'!M9=0,"",'1. Productores NOP'!M9) -> 1096 | O9: =IF('1. Productores NOP'!O9=0,"",'1. Productores NOP'!O9) | P9: =IF('1. Productores NOP'!P9=0,"",'1. Productores NOP'!P9) | Q9: =IF('1. Productores NOP'!Q9=0,"",'1. Productores NOP'!Q9) | R9: =IF('1. Productores NOP'!R9=0,"",'1. Productores NOP'!R9) | S9: =IF('1. Productores NOP'!S9=0,"",'1. Productores NOP'!S9) | T9: =IF('1. Productores NOP'!T9=0,"",'1. Productores NOP'!T9) | U9: =IF('1. Productores NOP'!U9=0,"",'1. Productores NOP'!U9) | V9: =IF('1. Productores NOP'!V9=0,"",'1. Productores NOP'!V9) | W9: =IF('1. Productores NOP'!W9=0,"",'1. Productores NOP'!W9)
A10: 6 | B10: =IF('1. Productores NOP'!B10=0,"",'1. Productores NOP'!B10) | C10: =IF('1. Productores NOP'!C10=0,"",'1. Productores NOP'!C10) | D10: =IF('1. Productores NOP'!D10=0,"",'1. Productores NOP'!D10) | E10: =IF('1. Productores NOP'!E10=0,"",'1. Productores NOP'!E10) | F10: =IF('1. Productores NOP'!F10=0,"",'1. Productores NOP'!F10) | G10: =IF('1. Productores NOP'!G10=0,"",'1. Productores NOP'!G10) | H10: =IF('1. Productores NOP'!H10=0,"",'1. Productores NOP'!H10) | I10: =IF('1. Productores NOP'!I10=0,"",'1. Productores NOP'!I10) | ... M10: =IF('1. Productores NOP'!M10=0,"",'1. Productores NOP'!M10) -> 1096 | O10: =IF('1. Productores NOP'!O10=0,"",'1. Productores NOP'!O10) | P10: =IF('1. Productores NOP'!P10=0,"",'1. Productores NOP'!P10) | Q10: =IF('1. Productores NOP'!Q10=0,"",'1. Productores NOP'!Q10) | R10: =IF('1. Productores NOP'!R10=0,"",'1. Productores NOP'!R10) | S10: =IF('1. Productores NOP'!S10=0,"",'1. Productores NOP'!S10) | T10: =IF('1. Productores NOP'!T10=0,"",'1. Productores NOP'!T10) | U10: =IF('1. Productores NOP'!U10=0,"",'1. Productores NOP'!U10) | V10: =IF('1. Productores NOP'!V10=0,"",'1. Productores NOP'!V10) | W10: =IF('1. Productores NOP'!W10=0,"",'1. Productores NOP'!W10)
A11: 7 | B11: =IF('1. Productores NOP'!B11=0,"",'1. Productores NOP'!B11) | C11: =IF('1. Productores NOP'!C11=0,"",'1. Productores NOP'!C11) | D11: =IF('1. Productores NOP'!D11=0,"",'1. Productores NOP'!D11) | E11: =IF('1. Productores NOP'!E11=0,"",'1. Productores NOP'!E11) | F11: =IF('1. Productores NOP'!F11=0,"",'1. Productores NOP'!F11) | G11: =IF('1. Productores NOP'!G11=0,"",'1. Productores NOP'!G11) | H11: =IF('1. Productores NOP'!H11=0,"",'1. Productores NOP'!H11) | I11: =IF('1. Productores NOP'!I11=0,"",'1. Productores NOP'!I11) | ... M11: =IF('1. Productores NOP'!M11=0,"",'1. Productores NOP'!M11) -> 1096 | O11: =IF('1. Productores NOP'!O11=0,"",'1. Productores NOP'!O11) | P11: =IF('1. Productores NOP'!P11=0,"",'1. Productores NOP'!P11) | Q11: =IF('1. Productores NOP'!Q11=0,"",'1. Productores NOP'!Q11) | R11: =IF('1. Productores NOP'!R11=0,"",'1. Productores NOP'!R11) | S11: =IF('1. Productores NOP'!S11=0,"",'1. Productores NOP'!S11) | T11: =IF('1. Productores NOP'!T11=0,"",'1. Productores NOP'!T11) | U11: =IF('1. Productores NOP'!U11=0,"",'1. Productores NOP'!U11) | V11: =IF('1. Productores NOP'!V11=0,"",'1. Productores NOP'!V11) | W11: =IF('1. Productores NOP'!W11=0,"",'1. Productores NOP'!W11)
A12: 8 | B12: =IF('1. Productores NOP'!B12=0,"",'1. Productores NOP'!B12) | C12: =IF('1. Productores NOP'!C12=0,"",'1. Productores NOP'!C12) | D12: =IF('1. Productores NOP'!D12=0,"",'1. Productores NOP'!D12) | E12: =IF('1. Productores NOP'!E12=0,"",'1. Productores NOP'!E12) | F12: =IF('1. Productores NOP'!F12=0,"",'1. Productores NOP'!F12) | G12: =IF('1. Productores NOP'!G12=0,"",'1. Productores NOP'!G12) | H12: =IF('1. Productores NOP'!H12=0,"",'1. Productores NOP'!H12) | I12: =IF('1. Productores NOP'!I12=0,"",'1. Productores NOP'!I12) | ... M12: =IF('1. Productores NOP'!M12=0,"",'1. Productores NOP'!M12) -> 1096 | O12: =IF('1. Productores NOP'!O12=0,"",'1. Productores NOP'!O12) | P12: =IF('1. Productores NOP'!P12=0,"",'1. Productores NOP'!P12) | Q12: =IF('1. Productores NOP'!Q12=0,"",'1. Productores NOP'!Q12) | R12: =IF('1. Productores NOP'!R12=0,"",'1. Productores NOP'!R12) | S12: =IF('1. Productores NOP'!S12=0,"",'1. Productores NOP'!S12) | T12: =IF('1. Productores NOP'!T12=0,"",'1. Productores NOP'!T12) | U12: =IF('1. Productores NOP'!U12=0,"",'1. Productores NOP'!U12) | V12: =IF('1. Productores NOP'!V12=0,"",'1. Productores NOP'!V12) | W12: =IF('1. Productores NOP'!W12=0,"",'1. Productores NOP'!W12)
A13: 9 | B13: =IF('1. Productores NOP'!B13=0,"",'1. Productores NOP'!B13) | C13: =IF('1. Productores NOP'!C13=0,"",'1. Productores NOP'!C13) | D13: =IF('1. Productores NOP'!D13=0,"",'1. Productores NOP'!D13) | E13: =IF('1. Productores NOP'!E13=0,"",'1. Productores NOP'!E13) | F13: =IF('1. Productores NOP'!F13=0,"",'1. Productores NOP'!F13) | G13: =IF('1. Productores NOP'!G13=0,"",'1. Productores NOP'!G13) | H13: =IF('1. Productores NOP'!H13=0,"",'1. Productores NOP'!H13) | I13: =IF('1. Productores NOP'!I13=0,"",'1. Productores NOP'!I13) | ... M13: =IF('1. Productores NOP'!M13=0,"",'1. Productores NOP'!M13) -> 1096 | O13: =IF('1. Productores NOP'!O13=0,"",'1. Productores NOP'!O13) | P13: =IF('1. Productores NOP'!P13=0,"",'1. Productores NOP'!P13) | Q13: =IF('1. Productores NOP'!Q13=0,"",'1. Productores NOP'!Q13) | R13: =IF('1. Productores NOP'!R13=0,"",'1. Productores NOP'!R13) | S13: =IF('1. Productores NOP'!S13=0,"",'1. Productores NOP'!S13) | T13: =IF('1. Productores NOP'!T13=0,"",'1. Productores NOP'!T13) | U13: =IF('1. Productores NOP'!U13=0,"",'1. Productores NOP'!U13) | V13: =IF('1. Productores NOP'!V13=0,"",'1. Productores NOP'!V13) | W13: =IF('1. Productores NOP'!W13=0,"",'1. Productores NOP'!W13)
A14: 10 | B14: =IF('1. Productores NOP'!B14=0,"",'1. Productores NOP'!B14) | C14: =IF('1. Productores NOP'!C14=0,"",'1. Productores NOP'!C14) | D14: =IF('1. Productores NOP'!D14=0,"",'1. Productores NOP'!D14) | E14: =IF('1. Productores NOP'!E14=0,"",'1. Productores NOP'!E14) | F14: =IF('1. Productores NOP'!F14=0,"",'1. Productores NOP'!F14) | G14: =IF('1. Productores NOP'!G14=0,"",'1. Productores NOP'!G14) | H14: =IF('1. Productores NOP'!H14=0,"",'1. Productores NOP'!H14) | I14: =IF('1. Productores NOP'!I14=0,"",'1. Productores NOP'!I14) | ... M14: =IF('1. Productores NOP'!M14=0,"",'1. Productores NOP'!M14) -> 1096 | O14: =IF('1. Productores NOP'!O14=0,"",'1. Productores NOP'!O14) | P14: =IF('1. Productores NOP'!P14=0,"",'1. Productores NOP'!P14) | Q14: =IF('1. Productores NOP'!Q14=0,"",'1. Productores NOP'!Q14) | R14: =IF('1. Productores NOP'!R14=0,"",'1. Productores NOP'!R14) | S14: =IF('1. Productores NOP'!S14=0,"",'1. Productores NOP'!S14) | T14: =IF('1. Productores NOP'!T14=0,"",'1. Productores NOP'!T14) | U14: =IF('1. Productores NOP'!U14=0,"",'1. Productores NOP'!U14) | V14: =IF('1. Productores NOP'!V14=0,"",'1. Productores NOP'!V14) | W14: =IF('1. Productores NOP'!W14=0,"",'1. Productores NOP'!W14)
A15: 11 | B15: =IF('1. Productores NOP'!B15=0,"",'1. Productores NOP'!B15) | C15: =IF('1. Productores NOP'!C15=0,"",'1. Productores NOP'!C15) | D15: =IF('1. Productores NOP'!D15=0,"",'1. Productores NOP'!D15) | E15: =IF('1. Productores NOP'!E15=0,"",'1. Productores NOP'!E15) | F15: =IF('1. Productores NOP'!F15=0,"",'1. Productores NOP'!F15) | G15: =IF('1. Productores NOP'!G15=0,"",'1. Productores NOP'!G15) | H15: =IF('1. Productores NOP'!H15=0,"",'1. Productores NOP'!H15) | I15: =IF('1. Productores NOP'!I15=0,"",'1. Productores NOP'!I15) | ... M15: =IF('1. Productores NOP'!M15=0,"",'1. Productores NOP'!M15) -> 1096 | O15: =IF('1. Productores NOP'!O15=0,"",'1. Productores NOP'!O15) | P15: =IF('1. Productores NOP'!P15=0,"",'1. Productores NOP'!P15) | Q15: =IF('1. Productores NOP'!Q15=0,"",'1. Productores NOP'!Q15) | R15: =IF('1. Productores NOP'!R15=0,"",'1. Productores NOP'!R15) | S15: =IF('1. Productores NOP'!S15=0,"",'1. Productores NOP'!S15) | T15: =IF('1. Productores NOP'!T15=0,"",'1. Productores NOP'!T15) | U15: =IF('1. Productores NOP'!U15=0,"",'1. Productores NOP'!U15) | V15: =IF('1. Productores NOP'!V15=0,"",'1. Productores NOP'!V15) | W15: =IF('1. Productores NOP'!W15=0,"",'1. Productores NOP'!W15)
A16: 12 | B16: =IF('1. Productores NOP'!B16=0,"",'1. Productores NOP'!B16) | C16: =IF('1. Productores NOP'!C16=0,"",'1. Productores NOP'!C16) | D16: =IF('1. Productores NOP'!D16=0,"",'1. Productores NOP'!D16) | E16: =IF('1. Productores NOP'!E16=0,"",'1. Productores NOP'!E16) | F16: =IF('1. Productores NOP'!F16=0,"",'1. Productores NOP'!F16) | G16: =IF('1. Productores NOP'!G16=0,"",'1. Productores NOP'!G16) | H16: =IF('1. Productores NOP'!H16=0,"",'1. Productores NOP'!H16) | I16: =IF('1. Productores NOP'!I16=0,"",'1. Productores NOP'!I16) | ... M16: =IF('1. Productores NOP'!M16=0,"",'1. Productores NOP'!M16) -> 1096 | O16: =IF('1. Productores NOP'!O16=0,"",'1. Productores NOP'!O16) | P16: =IF('1. Productores NOP'!P16=0,"",'1. Productores NOP'!P16) | Q16: =IF('1. Productores NOP'!Q16=0,"",'1. Productores NOP'!Q16) | R16: =IF('1. Productores NOP'!R16=0,"",'1. Productores NOP'!R16) | S16: =IF('1. Productores NOP'!S16=0,"",'1. Productores NOP'!S16) | T16: =IF('1. Productores NOP'!T16=0,"",'1. Productores NOP'!T16) | U16: =IF('1. Productores NOP'!U16=0,"",'1. Productores NOP'!U16) | V16: =IF('1. Productores NOP'!V16=0,"",'1. Productores NOP'!V16) | W16: =IF('1. Productores NOP'!W16=0,"",'1. Productores NOP'!W16)
A17: 13 | B17: =IF('1. Productores NOP'!B17=0,"",'1. Productores NOP'!B17) | C17: =IF('1. Productores NOP'!C17=0,"",'1. Productores NOP'!C17) | D17: =IF('1. Productores NOP'!D17=0,"",'1. Productores NOP'!D17) | E17: =IF('1. Productores NOP'!E17=0,"",'1. Productores NOP'!E17) | F17: =IF('1. Productores NOP'!F17=0,"",'1. Productores NOP'!F17) | G17: =IF('1. Productores NOP'!G17=0,"",'1. Productores NOP'!G17) | H17: =IF('1. Productores NOP'!H17=0,"",'1. Productores NOP'!H17) | I17: =IF('1. Productores NOP'!I17=0,"",'1. Productores NOP'!I17) | ... M17: =IF('1. Productores NOP'!M17=0,"",'1. Productores NOP'!M17) -> 1096 | O17: =IF('1. Productores NOP'!O17=0,"",'1. Productores NOP'!O17) | P17: =IF('1. Productores NOP'!P17=0,"",'1. Productores NOP'!P17) | Q17: =IF('1. Productores NOP'!Q17=0,"",'1. Productores NOP'!Q17) | R17: =IF('1. Productores NOP'!R17=0,"",'1. Productores NOP'!R17) | S17: =IF('1. Productores NOP'!S17=0,"",'1. Productores NOP'!S17) | T17: =IF('1. Productores NOP'!T17=0,"",'1. Productores NOP'!T17) | U17: =IF('1. Productores NOP'!U17=0,"",'1. Productores NOP'!U17) | V17: =IF('1. Productores NOP'!V17=0,"",'1. Productores NOP'!V17) | W17: =IF('1. Productores NOP'!W17=0,"",'1. Productores NOP'!W17)
A18: 14 | B18: =IF('1. Productores NOP'!B18=0,"",'1. Productores NOP'!B18) | C18: =IF('1. Productores NOP'!C18=0,"",'1. Productores NOP'!C18) | D18: =IF('1. Productores NOP'!D18=0,"",'1. Productores NOP'!D18) | E18: =IF('1. Productores NOP'!E18=0,"",'1. Productores NOP'!E18) | F18: =IF('1. Productores NOP'!F18=0,"",'1. Productores NOP'!F18) | G18: =IF('1. Productores NOP'!G18=0,"",'1. Productores NOP'!G18) | H18: =IF('1. Productores NOP'!H18=0,"",'1. Productores NOP'!H18) | I18: =IF('1. Productores NOP'!I18=0,"",'1. Productores NOP'!I18) | ... M18: =IF('1. Productores NOP'!M18=0,"",'1. Productores NOP'!M18) -> 1096 | O18: =IF('1. Productores NOP'!O18=0,"",'1. Productores NOP'!O18) | P18: =IF('1. Productores NOP'!P18=0,"",'1. Productores NOP'!P18) | Q18: =IF('1. Productores NOP'!Q18=0,"",'1. Productores NOP'!Q18) | R18: =IF('1. Productores NOP'!R18=0,"",'1. Productores NOP'!R18) | S18: =IF('1. Productores NOP'!S18=0,"",'1. Productores NOP'!S18) | T18: =IF('1. Productores NOP'!T18=0,"",'1. Productores NOP'!T18) | U18: =IF('1. Productores NOP'!U18=0,"",'1. Productores NOP'!U18) | V18: =IF('1. Productores NOP'!V18=0,"",'1. Productores NOP'!V18) | W18: =IF('1. Productores NOP'!W18=0,"",'1. Productores NOP'!W18)
A19: 15 | B19: =IF('1. Productores NOP'!B19=0,"",'1. Productores NOP'!B19) | C19: =IF('1. Productores NOP'!C19=0,"",'1. Productores NOP'!C19) | D19: =IF('1. Productores NOP'!D19=0,"",'1. Productores NOP'!D19) | E19: =IF('1. Productores NOP'!E19=0,"",'1. Productores NOP'!E19) | F19: =IF('1. Productores NOP'!F19=0,"",'1. Productores NOP'!F19) | G19: =IF('1. Productores NOP'!G19=0,"",'1. Productores NOP'!G19) | H19: =IF('1. Productores NOP'!H19=0,"",'1. Productores NOP'!H19) | I19: =IF('1. Productores NOP'!I19=0,"",'1. Productores NOP'!I19) | ... M19: =IF('1. Productores NOP'!M19=0,"",'1. Productores NOP'!M19) -> 1096 | O19: =IF('1. Productores NOP'!O19=0,"",'1. Productores NOP'!O19) | P19: =IF('1. Productores NOP'!P19=0,"",'1. Productores NOP'!P19) | Q19: =IF('1. Productores NOP'!Q19=0,"",'1. Productores NOP'!Q19) | R19: =IF('1. Productores NOP'!R19=0,"",'1. Productores NOP'!R19) | S19: =IF('1. Productores NOP'!S19=0,"",'1. Productores NOP'!S19) | T19: =IF('1. Productores NOP'!T19=0,"",'1. Productores NOP'!T19) | U19: =IF('1. Productores NOP'!U19=0,"",'1. Productores NOP'!U19) | V19: =IF('1. Productores NOP'!V19=0,"",'1. Productores NOP'!V19) | W19: =IF('1. Productores NOP'!W19=0,"",'1. Productores NOP'!W19)
... A1004: 1000 | B1004: =IF('1. Productores NOP'!B1004=0,"",'1. Productores NOP'!B1004) | C1004: =IF('1. Productores NOP'!C1004=0,"",'1. Productores NOP'!C1004) | D1004: =IF('1. Productores NOP'!D1004=0,"",'1. Productores NOP'!D1004) | E1004: =IF('1. Productores NOP'!E1004=0,"",'1. Productores NOP'!E1004) | F1004: =IF('1. Productores NOP'!F1004=0,"",'1. Productores NOP'!F1004) | G1004: =IF('1. Productores NOP'!G1004=0,"",'1. Productores NOP'!G1004) | H1004: =IF('1. Productores NOP'!H1004=0,"",'1. Productores NOP'!H1004) | I1004: =IF('1. Productores NOP'!I1004=0,"",'1. Productores NOP'!I1004) | ... M1004: =IF('1. Productores NOP'!M1004=0,"",'1. Productores NOP'!M1004) -> 1096 | O1004: =IF('1. Productores NOP'!O1004=0,"",'1. Productores NOP'!O1004) | P1004: =IF('1. Productores NOP'!P1004=0,"",'1. Productores NOP'!P1004) | Q1004: =IF('1. Productores NOP'!Q1004=0,"",'1. Productores NOP'!Q1004) | R1004: =IF('1. Productores NOP'!R1004=0,"",'1. Productores NOP'!R1004) | S1004: =IF('1. Productores NOP'!S1004=0,"",'1. Productores NOP'!S1004) | T1004: =IF('1. Productores NOP'!T1004=0,"",'1. Productores NOP'!T1004) | U1004: =IF('1. Productores NOP'!U1004=0,"",'1. Productores NOP'!U1004) | V1004: =IF('1. Productores NOP'!V1004=0,"",'1. Productores NOP'!V1004) | W1004: =IF('1. Productores NOP'!W1004=0,"",'1. Productores NOP'!W1004)

Sheet 2.1 Totales UE
A1: Esta hoja de calculo no se actualiza automaticamente. Necesita dar click en Pivot Table (Tabla Pivot) y despues Refresh (Actualizar) cuando los datos hayan cambiado
A2: ESTADO DE LA TRANSICIÓN. | B2: Count of ESTADO DE LA TRANSICIÓN. | C2: Sum of Número de Campos | D2: Sum of ÁREA TOTAL DE LA FINCA (Ha) | E2: Sum of RENDIMIENTOS ESTIMADOS (kilogramos)
A3: (blank) | C3: 0 | D3: 0 | E3: 0
A4: Grand Total | C4: 0 | D4: 0 | E4: 0

Sheet 3. Productores LPO
A1: Apéndice 3: Información de Productores LPO CGG. | I1: Nombre del CGG: | K1: =Instrucciones!B4 -> 0
C3: Totales Cal | D3: =COUNTIF(N5:N1005,"Cal") -> 0 | E3: Totales T1 | F3: =COUNTIF(N5:N1005,"T1") -> 0 | G3: Totales T2 | H3: =COUNTIF(N5:N1005,"T2") -> 0 | I3: Totales T3 | J3: =COUNTIF(N5:N1005,"T3") -> 0 | K3: Totales Org | L3: =COUNTIF(N5:N1005,"Org") -> 0 | M3: Totales Todos | N3: =COUNTA('1. Productores NOP'!E5:'1. Productores NOP'!E1004) -> 0
A4: # | B4: Código: Número de Documento Personal | C4: PRIMER NOMBRE DEL PRODUCTOR | D4: SEGUNDO NOMBRE DEL PRODUCTOR | E4: PRIMER APELLIDO DEL PRODUCTOR | F4: SEGUNDO APELLIDO DEL PRODUCTOR | G4: NOMBRE DE LA COMUNIDAD O SUBGRUPO | H4: FECHA DE LA ÚLTIMA APLICACIÓN DE INSUMOS PROHIBIDOS | I4: FECHA DE ENTRADA A LA TRANSICIÓN ORGÁNICA | J4: FECHA DE LA PRIMERA INSPECCIÓN INTERNA | K4: FECHA DE LA ULTIMA INSPECCIÓN INTERNA | L4: FECHA DE LA ÚLTIMA INSPECCIÓN EXTERNA | M4: FECHA DE CALIFICACIÓN PARA EL PROGRAMA ORGÁNICO | N4: ESTADO DE LA TRANSICIÓN. | O4: ÁREA TOTAL DE LA FINCA (Ha) | P4: CULTIVO EN PRODUCCIÓN PARALELA O EN PRODUCCIÓN MIXTA (Hectáreas) | Q4: AREA EN PRODUCCIÓN PARALELA O MIXTA (Hectáreas) | R4: Hectáreas de Cultivo en Crecimiento (Solo perennes) | S4: Hectáreas de Cultivo en Producción | T4: Hectáreas con Cultivo Establecido | U4: Número de Campos | V4: Georreferenciación Este-Norte-Altitud | W4: RENDIMIENTOS ESTIMADOS EN KILOGRAMOS DE FRUTO (CEREZA DE CAFÉ O MAZORCA DE CACAO) | X4: Solo para uso del inspector. Marque con el año (25, 26, 27, etc.) si este productor fue inspeccionado durante la inspección externa. | Y4: Nota 1: | Z4: Nota 2: | AA4: Nota 3: | AB4: Nota 4: | AC4: Nota 5:
A5: 1 | B5: =IF('1. Productores NOP'!B5=0,"",'1. Productores NOP'!B5) | C5: =IF('1. Productores NOP'!C5=0,"",'1. Productores NOP'!C5) | D5: =IF('1. Productores NOP'!D5=0,"",'1. Productores NOP'!D5) | E5: =IF('1. Productores NOP'!E5=0,"",'1. Productores NOP'!E5) | F5: =IF('1. Productores NOP'!F5=0,"",'1. Productores NOP'!F5) | G5: =IF('1. Productores NOP'!G5=0,"",'1. Productores NOP'!G5) | H5: =IF('1. Productores NOP'!H5=0,"",'1. Productores NOP'!H5) | I5: =IF('1. Productores NOP'!I5=0,"",'1. Productores NOP'!I5) | ... M5: =IF('1. Productores NOP'!M5=0,"",'1. Productores NOP'!M5) -> 1096 | O5: =IF('1. Productores NOP'!O5=0,"",'1. Productores NOP'!O5) | P5: =IF('1. Productores NOP'!P5=0,"",'1. Productores NOP'!P5) | Q5: =IF('1. Productores NOP'!Q5=0,"",'1. Productores NOP'!Q5) | R5: =IF('1. Productores NOP'!R5=0,"",'1. Productores NOP'!R5) | S5: =IF('1. Productores NOP'!S5=0,"",'1. Productores NOP'!S5) | T5: =IF('1. Productores NOP'!T5=0,"",'1. Productores NOP'!T5) | U5: =IF('1. Productores NOP'!U5=0,"",'1. Productores NOP'!U5) | V5: =IF('1. Productores NOP'!V5=0,"",'1. Productores NOP'!V5)
A6: 2 | B6: =IF('1. Productores NOP'!B6=0,"",'1. Productores NOP'!B6) | C6: =IF('1. Productores NOP'!C6=0,"",'1. Productores NOP'!C6) | D6: =IF('1. Productores NOP'!D6=0,"",'1. Productores NOP'!D6) | E6: =IF('1. Productores NOP'!F6=0,"",'1. Productores NOP'!F6) | F6: =IF('1. Productores NOP'!F6=0,"",'1. Productores NOP'!F6) | G6: =IF('1. Productores NOP'!G6=0,"",'1. Productores NOP'!G6) | H6: =IF('1. Productores NOP'!H6=0,"",'1. Productores NOP'!H6) | I6: =IF('1. Productores NOP'!I6=0,"",'1. Productores NOP'!I6) | J6: =IF('1. Productores NOP'!J6=0,"",'1. Productores NOP'!J6) | K6: =IF('1. Productores NOP'!K6=0,"",'1. Productores NOP'!K6) | L6: =IF('1. Productores NOP'!L6=0,"",'1. Productores NOP'!L6) | M6: =IF('1. Productores NOP'!M6=0,"",'1. Productores NOP'!M6) -> 1096 | O6: =IF('1. Productores NOP'!O6=0,"",'1. Productores NOP'!O6) | P6: =IF('1. Productores NOP'!P6=0,"",'1. Productores NOP'!P6) | Q6: =IF('1. Productores NOP'!Q6=0,"",'1. Productores NOP'!Q6) | R6: =IF('1. Productores NOP'!R6=0,"",'1. Productores NOP'!R6) | S6: =IF('1. Productores NOP'!S6=0,"",'1. Productores NOP'!S6) | T6: =IF('1. Productores NOP'!T6=0,"",'1. Productores NOP'!T6) | U6: =IF('1. Productores NOP'!U6=0,"",'1. Productores NOP'!U6) | V6: =IF('1. Productores NOP'!V6=0,"",'1. Productores NOP'!V6)
A7: 3 | B7: =IF('1. Productores NOP'!B7=0,"",'1. Productores NOP'!B7) | C7: =IF('1. Productores NOP'!C7=0,"",'1. Productores NOP'!C7) | D7: =IF('1. Productores NOP'!D7=0,"",'1. Productores NOP'!D7) | E7: =IF('1. Productores NOP'!F7=0,"",'1. Productores NOP'!F7) | F7: =IF('1. Productores NOP'!F7=0,"",'1. Productores NOP'!F7) | G7: =IF('1. Productores NOP'!G7=0,"",'1. Productores NOP'!G7) | H7: =IF('1. Productores NOP'!H7=0,"",'1. Productores NOP'!H7) | I7: =IF('1. Productores NOP'!I7=0,"",'1. Productores NOP'!I7) | J7: =IF('1. Productores NOP'!J7=0,"",'1. Productores NOP'!J7) | K7: =IF('1. Productores NOP'!K7=0,"",'1. Productores NOP'!K7) | L7: =IF('1. Productores NOP'!L7=0,"",'1. Productores NOP'!L7) | M7: =IF('1. Productores NOP'!M7=0,"",'1. Productores NOP'!M7) -> 1096 | O7: =IF('1. Productores NOP'!O7=0,"",'1. Productores NOP'!O7) | P7: =IF('1. Productores NOP'!P7=0,"",'1. Productores NOP'!P7) | Q7: =IF('1. Productores NOP'!Q7=0,"",'1. Productores NOP'!Q7) | R7: =IF('1. Productores NOP'!R7=0,"",'1. Productores NOP'!R7) | S7: =IF('1. Productores NOP'!S7=0,"",'1. Productores NOP'!S7) | T7: =IF('1. Productores NOP'!T7=0,"",'1. Productores NOP'!T7) | U7: =IF('1. Productores NOP'!U7=0,"",'1. Productores NOP'!U7) | V7: =IF('1. Productores NOP'!V7=0,"",'1. Productores NOP'!V7)
A8: 4 | B8: =IF('1. Productores NOP'!B8=0,"",'1. Productores NOP'!B8) | C8: =IF('1. Productores NOP'!C8=0,"",'1. Productores NOP'!C8) | D8: =IF('1. Productores NOP'!D8=0,"",'1. Productores NOP'!D8) | E8: =IF('1. Productores NOP'!E8=0,"",'1. Productores NOP'!E8) | F8: =IF('1. Productores NOP'!F8=0,"",'1. Productores NOP'!F8) | G8: =IF('1. Productores NOP'!G8=0,"",'1. Productores NOP'!G8) | H8: =IF('1. Productores NOP'!H8=0,"",'1. Productores NOP'!H8) | I8: =IF('1. Productores NOP'!I8=0,"",'1. Productores NOP'!I8) | ... M8: =IF('1. Productores NOP'!M8=0,"",'1. Productores NOP'!M8) -> 1096 | O8: =IF('1. Productores NOP'!O8=0,"",'1. Productores NOP'!O8) | P8: =IF('1. Productores NOP'!P8=0,"",'1. Productores NOP'!P8) | Q8: =IF('1. Productores NOP'!Q8=0,"",'1. Productores NOP'!Q8) | R8: =IF('1. Productores NOP'!R8=0,"",'1. Productores NOP'!R8) | S8: =IF('1. Productores NOP'!S8=0,"",'1. Productores NOP'!S8) | T8: =IF('1. Productores NOP'!T8=0,"",'1. Productores NOP'!T8) | U8: =IF('1. Productores NOP'!U8=0,"",'1. Productores NOP'!U8) | V8: =IF('1. Productores NOP'!V8=0,"",'1. Productores NOP'!V8)
A9: 5 | B9: =IF('1. Productores NOP'!B9=0,"",'1. Productores NOP'!B9) | C9: =IF('1. Productores NOP'!C9=0,"",'1. Productores NOP'!C9) | D9: =IF('1. Productores NOP'!D9=0,"",'1. Productores NOP'!D9) | E9: =IF('1. Productores NOP'!E9=0,"",'1. Productores NOP'!E9) | F9: =IF('1. Productores NOP'!F9=0,"",'1. Productores NOP'!F9) | G9: =IF('1. Productores NOP'!G9=0,"",'1. Productores NOP'!G9) | H9: =IF('1. Productores NOP'!H9=0,"",'1. Productores NOP'!H9) | I9: =IF('1. Productores NOP'!I9=0,"",'1. Productores NOP'!I9) | ... M9: =IF('1. Productores NOP'!M9=0,"",'1. Productores NOP'!M9) -> 1096 | O9: =IF('1. Productores NOP'!O9=0,"",'1. Productores NOP'!O9) | P9: =IF('1. Productores NOP'!P9=0,"",'1. Productores NOP'!P9) | Q9: =IF('1. Productores NOP'!Q9=0,"",'1. Productores NOP'!Q9) | R9: =IF('1. Productores NOP'!R9=0,"",'1. Productores NOP'!R9) | S9: =IF('1. Productores NOP'!S9=0,"",'1. Productores NOP'!S9) | T9: =IF('1. Productores NOP'!T9=0,"",'1. Productores NOP'!T9) | U9: =IF('1. Productores NOP'!U9=0,"",'1. Productores NOP'!U9) | V9: =IF('1. Productores NOP'!V9=0,"",'1. Productores NOP'!V9)
A10: 6 | B10: =IF('1. Productores NOP'!B10=0,"",'1. Productores NOP'!B10) | C10: =IF('1. Productores NOP'!C10=0,"",'1. Productores NOP'!C10) | D10: =IF('1. Productores NOP'!D10=0,"",'1. Productores NOP'!D10) | E10: =IF('1. Productores NOP'!E10=0,"",'1. Productores NOP'!E10) | F10: =IF('1. Productores NOP'!F10=0,"",'1. Productores NOP'!F10) | G10: =IF('1. Productores NOP'!G10=0,"",'1. Productores NOP'!G10) | H10: =IF('1. Productores NOP'!H10=0,"",'1. Productores NOP'!H10) | I10: =IF('1. Productores NOP'!I10=0,"",'1. Productores NOP'!I10) | ... M10: =IF('1. Productores NOP'!M10=0,"",'1. Productores NOP'!M10) -> 1096 | O10: =IF('1. Productores NOP'!O10=0,"",'1. Productores NOP'!O10) | P10: =IF('1. Productores NOP'!P10=0,"",'1. Productores NOP'!P10) | Q10: =IF('1. Productores NOP'!Q10=0,"",'1. Productores NOP'!Q10) | R10: =IF('1. Productores NOP'!R10=0,"",'1. Productores NOP'!R10) | S10: =IF('1. Productores NOP'!S10=0,"",'1. Productores NOP'!S10) | T10: =IF('1. Productores NOP'!T10=0,"",'1. Productores NOP'!T10) | U10: =IF('1. Productores NOP'!U10=0,"",'1. Productores NOP'!U10) | V10: =IF('1. Productores NOP'!V10=0,"",'1. Productores NOP'!V10)
A11: 7 | B11: =IF('1. Productores NOP'!B11=0,"",'1. Productores NOP'!B11) | C11: =IF('1. Productores NOP'!C11=0,"",'1. Productores NOP'!C11) | D11: =IF('1. Productores NOP'!D11=0,"",'1. Productores NOP'!D11) | E11: =IF('1. Productores NOP'!E11=0,"",'1. Productores NOP'!E11) | F11: =IF('1. Productores NOP'!F11=0,"",'1. Productores NOP'!F11) | G11: =IF('1. Productores NOP'!G11=0,"",'1. Productores NOP'!G11) | H11: =IF('1. Productores NOP'!H11=0,"",'1. Productores NOP'!H11) | I11: =IF('1. Productores NOP'!I11=0,"",'1. Productores NOP'!I11) | ... M11: =IF('1. Productores NOP'!M11=0,"",'1. Productores NOP'!M11) -> 1096 | O11: =IF('1. Productores NOP'!O11=0,"",'1. Productores NOP'!O11) | P11: =IF('1. Productores NOP'!P11=0,"",'1. Productores NOP'!P11) | Q11: =IF('1. Productores NOP'!Q11=0,"",'1. Productores NOP'!Q11) | R11: =IF('1. Productores NOP'!R11=0,"",'1. Productores NOP'!R11) | S11: =IF('1. Productores NOP'!S11=0,"",'1. Productores NOP'!S11) | T11: =IF('1. Productores NOP'!T11=0,"",'1. Productores NOP'!T11) | U11: =IF('1. Productores NOP'!U11=0,"",'1. Productores NOP'!U11) | V11: =IF('1. Productores NOP'!V11=0,"",'1. Productores NOP'!V11)
A12: 8 | B12: =IF('1. Productores NOP'!B12=0,"",'1. Productores NOP'!B12) | C12: =IF('1. Productores NOP'!C12=0,"",'1. Productores NOP'!C12) | D12: =IF('1. Productores NOP'!D12=0,"",'1. Productores NOP'!D12) | E12: =IF('1. Productores NOP'!E12=0,"",'1. Productores NOP'!E12) | F12: =IF('1. Productores NOP'!F12=0,"",'1. Productores NOP'!F12) | G12: =IF('1. Productores NOP'!G12=0,"",'1. Productores NOP'!G12) | H12: =IF('1. Productores NOP'!H12=0,"",'1. Productores NOP'!H12) | I12: =IF('1. Productores NOP'!I12=0,"",'1. Productores NOP'!I12) | ... M12: =IF('1. Productores NOP'!M12=0,"",'1. Productores NOP'!M12) -> 1096 | O12: =IF('1. Productores NOP'!O12=0,"",'1. Productores NOP'!O12) | P12: =IF('1. Productores NOP'!P12=0,"",'1. Productores NOP'!P12) | Q12: =IF('1. Productores NOP'!Q12=0,"",'1. Productores NOP'!Q12) | R12: =IF('1. Productores NOP'!R12=0,"",'1. Productores NOP'!R12) | S12: =IF('1. Productores NOP'!S12=0,"",'1. Productores NOP'!S12) | T12: =IF('1. Productores NOP'!T12=0,"",'1. Productores NOP'!T12) | U12: =IF('1. Productores NOP'!U12=0,"",'1. Productores NOP'!U12) | V12: =IF('1. Productores NOP'!V12=0,"",'1. Productores NOP'!V12)
A13: 9 | B13: =IF('1. Productores NOP'!B13=0,"",'1. Productores NOP'!B13) | C13: =IF('1. Productores NOP'!C13=0,"",'1. Productores NOP'!C13) | D13: =IF('1. Productores NOP'!D13=0,"",'1. Productores NOP'!D13) | E13: =IF('1. Productores NOP'!E13=0,"",'1. Productores NOP'!E13) | F13: =IF('1. Productores NOP'!F13=0,"",'1. Productores NOP'!F13) | G13: =IF('1. Productores NOP'!G13=0,"",'1. Productores NOP'!G13) | H13: =IF('1. Productores NOP'!H13=0,"",'1. Productores NOP'!H13) | I13: =IF('1. Productores NOP'!I13=0,"",'1. Productores NOP'!I13) | ... M13: =IF('1. Productores NOP'!M13=0,"",'1. Productores NOP'!M13) -> 1096 | O13: =IF('1. Productores NOP'!O13=0,"",'1. Productores NOP'!O13) | P13: =IF('1. Productores NOP'!P13=0,"",'1. Productores NOP'!P13) | Q13: =IF('1. Productores NOP'!Q13=0,"",'1. Productores NOP'!Q13) | R13: =IF('1. Productores NOP'!R13=0,"",'1. Productores NOP'!R13) | S13: =IF('1. Productores NOP'!S13=0,"",'1. Productores NOP'!S13) | T13: =IF('1. Productores NOP'!T13=0,"",'1. Productores NOP'!T13) | U13: =IF('1. Productores NOP'!U13=0,"",'1. Productores NOP'!U13) | V13: =IF('1. Productores NOP'!V13=0,"",'1. Productores NOP'!V13)
A14: 10 | B14: =IF('1. Productores NOP'!B14=0,"",'1. Productores NOP'!B14) | C14: =IF('1. Productores NOP'!C14=0,"",'1. Productores NOP'!C14) | D14: =IF('1. Productores NOP'!D14=0,"",'1. Productores NOP'!D14) | E14: =IF('1. Productores NOP'!E14=0,"",'1. Productores NOP'!E14) | F14: =IF('1. Productores NOP'!F14=0,"",'1. Productores NOP'!F14) | G14: =IF('1. Productores NOP'!G14=0,"",'1. Productores NOP'!G14) | H14: =IF('1. Productores NOP'!H14=0,"",'1. Productores NOP'!H14) | I14: =IF('1. Productores NOP'!I14=0,"",'1. Productores NOP'!I14) | ... M14: =IF('1. Productores NOP'!M14=0,"",'1. Productores NOP'!M14) -> 1096 | O14: =IF('1. Productores NOP'!O14=0,"",'1. Productores NOP'!O14) | P14: =IF('1. Productores NOP'!P14=0,"",'1. Productores NOP'!P14) | Q14: =IF('1. Productores NOP'!Q14=0,"",'1. Productores NOP'!Q14) | R14: =IF('1. Productores NOP'!R14=0,"",'1. Productores NOP'!R14) | S14: =IF('1. Productores NOP'!S14=0,"",'1. Productores NOP'!S14) | T14: =IF('1. Productores NOP'!T14=0,"",'1. Productores NOP'!T14) | U14: =IF('1. Productores NOP'!U14=0,"",'1. Productores NOP'!U14) | V14: =IF('1. Productores NOP'!V14=0,"",'1. Productores NOP'!V14)
A15: 11 | B15: =IF('1. Productores NOP'!B15=0,"",'1. Productores NOP'!B15) | C15: =IF('1. Productores NOP'!C15=0,"",'1. Productores NOP'!C15) | D15: =IF('1. Productores NOP'!D15=0,"",'1. Productores NOP'!D15) | E15: =IF('1. Productores NOP'!E15=0,"",'1. Productores NOP'!E15) | F15: =IF('1. Productores NOP'!F15=0,"",'1. Productores NOP'!F15) | G15: =IF('1. Productores NOP'!G15=0,"",'1. Productores NOP'!G15) | H15: =IF('1. Productores NOP'!H15=0,"",'1. Productores NOP'!H15) | I15: =IF('1. Productores NOP'!I15=0,"",'1. Productores NOP'!I15) | ... M15: =IF('1. Productores NOP'!M15=0,"",'1. Productores NOP'!M15) -> 1096 | O15: =IF('1. Productores NOP'!O15=0,"",'1. Productores NOP'!O15) | P15: =IF('1. Productores NOP'!P15=0,"",'1. Productores NOP'!P15) | Q15: =IF('1. Productores NOP'!Q15=0,"",'1. Productores NOP'!Q15) | R15: =IF('1. Productores NOP'!R15=0,"",'1. Productores NOP'!R15) | S15: =IF('1. Productores NOP'!S15=0,"",'1. Productores NOP'!S15) | T15: =IF('1. Productores NOP'!T15=0,"",'1. Productores NOP'!T15) | U15: =IF('1. Productores NOP'!U15=0,"",'1. Productores NOP'!U15) | V15: =IF('1. Productores NOP'!V15=0,"",'1. Productores NOP'!V15)
A16: 12 | B16: =IF('1. Productores NOP'!B16=0,"",'1. Productores NOP'!B16) | C16: =IF('1. Productores NOP'!C16=0,"",'1. Productores NOP'!C16) | D16: =IF('1. Productores NOP'!D16=0,"",'1. Productores NOP'!D16) | E16: =IF('1. Productores NOP'!E16=0,"",'1. Productores NOP'!E16) | F16: =IF('1. Productores NOP'!F16=0,"",'1. Productores NOP'!F16) | G16: =IF('1. Productores NOP'!G16=0,"",'1. Productores NOP'!G16) | H16: =IF('1. Productores NOP'!H16=0,"",'1. Productores NOP'!H16) | I16: =IF('1. Productores NOP'!I16=0,"",'1. Productores NOP'!I16) | ... M16: =IF('1. Productores NOP'!M16=0,"",'1. Productores NOP'!M16) -> 1096 | O16: =IF('1. Productores NOP'!O16=0,"",'1. Productores NOP'!O16) | P16: =IF('1. Productores NOP'!P16=0,"",'1. Productores NOP'!P16) | Q16: =IF('1. Productores NOP'!Q16=0,"",'1. Productores NOP'!Q16) | R16: =IF('1. Productores NOP'!R16=0,"",'1. Productores NOP'!R16) | S16: =IF('1. Productores NOP'!S16=0,"",'1. Productores NOP'!S16) | T16: =IF('1. Productores NOP'!T16=0,"",'1. Productores NOP'!T16) | U16: =IF('1. Productores NOP'!U16=0,"",'1. Productores NOP'!U16) | V16: =IF('1. Productores NOP'!V16=0,"",'1. Productores NOP'!V16)
A17: 13 | B17: =IF('1. Productores NOP'!B17=0,"",'1. Productores NOP'!B17) | C17: =IF('1. Productores NOP'!C17=0,"",'1. Productores NOP'!C17) | D17: =IF('1. Productores NOP'!D17=0,"",'1. Productores NOP'!D17) | E17: =IF('1. Productores NOP'!E17=0,"",'1. Productores NOP'!E17) | F17: =IF('1. Productores NOP'!F17=0,"",'1. Productores NOP'!F17) | G17: =IF('1. Productores NOP'!G17=0,"",'1. Productores NOP'!G17) | H17: =IF('1. Productores NOP'!H17=0,"",'1. Productores NOP'!H17) | I17: =IF('1. Productores NOP'!I17=0,"",'1. Productores NOP'!I17) | ... M17: =IF('1. Productores NOP'!M17=0,"",'1. Productores NOP'!M17) -> 1096 | O17: =IF('1. Productores NOP'!O17=0,"",'1. Productores NOP'!O17) | P17: =IF('1. Productores NOP'!P17=0,"",'1. Productores NOP'!P17) | Q17: =IF('1. Productores NOP'!Q17=0,"",'1. Productores NOP'!Q17) | R17: =IF('1. Productores NOP'!R17=0,"",'1. Productores NOP'!R17) | S17: =IF('1. Productores NOP'!S17=0,"",'1. Productores NOP'!S17) | T17: =IF('1. Productores NOP'!T17=0,"",'1. Productores NOP'!T17) | U17: =IF('1. Productores NOP'!U17=0,"",'1. Productores NOP'!U17) | V17: =IF('1. Productores NOP'!V17=0,"",'1. Productores NOP'!V17)
A18: 14 | B18: =IF('1. Productores NOP'!B18=0,"",'1. Productores NOP'!B18) | C18: =IF('1. Productores NOP'!C18=0,"",'1. Productores NOP'!C18) | D18: =IF('1. Productores NOP'!D18=0,"",'1. Productores NOP'!D18) | E18: =IF('1. Productores NOP'!E18=0,"",'1. Productores NOP'!E18) | F18: =IF('1. Productores NOP'!F18=0,"",'1. Productores NOP'!F18) | G18: =IF('1. Productores NOP'!G18=0,"",'1. Productores NOP'!G18) | H18: =IF('1. Productores NOP'!H18=0,"",'1. Productores NOP'!H18) | I18: =IF('1. Productores NOP'!I18=0,"",'1. Productores NOP'!I18) | ... M18: =IF('1. Productores NOP'!M18=0,"",'1. Productores NOP'!M18) -> 1096 | O18: =IF('1. Productores NOP'!O18=0,"",'1. Productores NOP'!O18) | P18: =IF('1. Productores NOP'!P18=0,"",'1. Productores NOP'!P18) | Q18: =IF('1. Productores NOP'!Q18=0,"",'1. Productores NOP'!Q18) | R18: =IF('1. Productores NOP'!R18=0,"",'1. Productores NOP'!R18) | S18: =IF('1. Productores NOP'!S18=0,"",'1. Productores NOP'!S18) | T18: =IF('1. Productores NOP'!T18=0,"",'1. Productores NOP'!T18) | U18: =IF('1. Productores NOP'!U18=0,"",'1. Productores NOP'!U18) | V18: =IF('1. Productores NOP'!V18=0,"",'1. Productores NOP'!V18)
A19: 15 | B19: =IF('1. Productores NOP'!B19=0,"",'1. Productores NOP'!B19) | C19: =IF('1. Productores NOP'!C19=0,"",'1. Productores NOP'!C19) | D19: =IF('1. Productores NOP'!D19=0,"",'1. Productores NOP'!D19) | E19: =IF('1. Productores NOP'!E19=0,"",'1. Productores NOP'!E19) | F19: =IF('1. Productores NOP'!F19=0,"",'1. Productores NOP'!F19) | G19: =IF('1. Productores NOP'!G19=0,"",'1. Productores NOP'!G19) | H19: =IF('1. Productores NOP'!H19=0,"",'1. Productores NOP'!H19) | I19: =IF('1. Productores NOP'!I19=0,"",'1. Productores NOP'!I19) | ... M19: =IF('1. Productores NOP'!M19=0,"",'1. Productores NOP'!M19) -> 1096 | O19: =IF('1. Productores NOP'!O19=0,"",'1. Productores NOP'!O19) | P19: =IF('1. Productores NOP'!P19=0,"",'1. Productores NOP'!P19) | Q19: =IF('1. Productores NOP'!Q19=0,"",'1. Productores NOP'!Q19) | R19: =IF('1. Productores NOP'!R19=0,"",'1. Productores NOP'!R19) | S19: =IF('1. Productores NOP'!S19=0,"",'1. Productores NOP'!S19) | T19: =IF('1. Productores NOP'!T19=0,"",'1. Productores NOP'!T19) | U19: =IF('1. Productores NOP'!U19=0,"",'1. Productores NOP'!U19) | V19: =IF('1. Productores NOP'!V19=0,"",'1. Productores NOP'!V19)
... A1004: 1000 | B1004: =IF('1. Productores NOP'!B1004=0,"",'1. Productores NOP'!B1004) | C1004: =IF('1. Productores NOP'!C1004=0,"",'1. Productores NOP'!C1004) | D1004: =IF('1. Productores NOP'!D1004=0,"",'1. Productores NOP'!D1004) | E1004: =IF('1. Productores NOP'!E1004=0,"",'1. Productores NOP'!E1004) | F1004: =IF('1. Productores NOP'!F1004=0,"",'1. Productores NOP'!F1004) | G1004: =IF('1. Productores NOP'!G1004=0,"",'1. Productores NOP'!G1004) | H1004: =IF('1. Productores NOP'!H1004=0,"",'1. Productores NOP'!H1004) | I1004: =IF('1. Productores NOP'!I1004=0,"",'1. Productores NOP'!I1004) | ... M1004: =IF('1. Productores NOP'!M1004=0,"",'1. Productores NOP'!M1004) -> 1096 | O1004: =IF('1. Productores NOP'!O1004=0,"",'1. Productores NOP'!O1004) | P1004: =IF('1. Productores NOP'!P1004=0,"",'1. Productores NOP'!P1004) | Q1004: =IF('1. Productores NOP'!Q1004=0,"",'1. Productores NOP'!Q1004) | R1004: =IF('1. Productores NOP'!R1004=0,"",'1. Productores NOP'!R1004) | S1004: =IF('1. Productores NOP'!S1004=0,"",'1. Productores NOP'!S1004) | T1004: =IF('1. Productores NOP'!T1004=0,"",'1. Productores NOP'!T1004) | U1004: =IF('1. Productores NOP'!U1004=0,"",'1. Productores NOP'!U1004) | V1004: =IF('1. Productores NOP'!V1004=0,"",'1. Productores NOP'!V1004)

Sheet 3.1 Totales LPO
A1: Esta hoja de calculo no se actualiza automaticamente. Necesita dar click en Pivot Table (Tabla Pivot) y despues Refresh (Actualizar) cuando los datos hayan cambiado
A2: ESTADO DE LA TRANSICIÓN. | B2: Count of ESTADO DE LA TRANSICIÓN. | C2: Sum of Número de Campos | D2: Sum of ÁREA TOTAL DE LA FINCA (Ha) | E2: Sum of RENDIMIENTOS ESTIMADOS EN KILOGRAMOS DE FRUTO (CEREZA DE CAFÉ O MAZORCA DE CACAO)
A3: (blank) | C3: 0 | D3: 0
A4: Grand Total | C4: 0 | D4: 0

Sheet 4. Productores RTPO
A1: Apéncide 4: Información de Productores RTPO CGG. | I1: Nombre del CGG: | K1: =Instrucciones!B4 -> 0
C3: Totales Cali | D3: =COUNTIF(N5:N1005,"Cal") -> 0 | E3: Totales T1 | F3: =COUNTIF(N5:N1005,"T1") -> 0 | G3: Totales T2 | H3: =COUNTIF(N5:N1005,"T2") -> 0 | I3: Totales T3 | J3: =COUNTIF(N5:N1005,"T3") -> 0 | K3: Totales Org | L3: =COUNTIF(N5:N1005,"Org") -> 0 | M3: Totales Todos | N3: =COUNTA('1. Productores NOP'!E5:'1. Productores NOP'!E1004) -> 0
