BEGIN:VCALENDAR
VERSION:2.0
PRODID:-//OCIA - ECPv6.15.17//NONSGML v1.0//EN
CALSCALE:GREGORIAN
METHOD:PUBLISH
X-WR-CALNAME:OCIA
X-ORIGINAL-URL:https://ocia.org
X-WR-CALDESC:Events for OCIA
REFRESH-INTERVAL;VALUE=DURATION:PT1H
X-Robots-Tag:noindex
X-PUBLISHED-TTL:PT1H
BEGIN:VTIMEZONE
TZID:America/Chicago
BEGIN:DAYLIGHT
TZOFFSETFROM:-0600
TZOFFSETTO:-0500
TZNAME:CDT
DTSTART:20240310T080000
END:DAYLIGHT
BEGIN:STANDARD
TZOFFSETFROM:-0500
TZOFFSETTO:-0600
TZNAME:CST
DTSTART:20241103T070000
END:STANDARD
BEGIN:DAYLIGHT
TZOFFSETFROM:-0600
TZOFFSETTO:-0500
TZNAME:CDT
DTSTART:20250309T080000
END:DAYLIGHT
BEGIN:STANDARD
TZOFFSETFROM:-0500
TZOFFSETTO:-0600
TZNAME:CST
DTSTART:20251102T070000
END:STANDARD
BEGIN:DAYLIGHT
TZOFFSETFROM:-0600
TZOFFSETTO:-0500
TZNAME:CDT
DTSTART:20260308T080000
END:DAYLIGHT
BEGIN:STANDARD
TZOFFSETFROM:-0500
TZOFFSETTO:-0600
TZNAME:CST
DTSTART:20261101T070000
END:STANDARD
END:VTIMEZONE
BEGIN:VEVENT
DTSTART;TZID=America/Chicago:20250305T080000
DTEND;TZID=America/Chicago:20250307T170000
DTSTAMP:20260423T051125
CREATED:20241021T142902Z
LAST-MODIFIED:20241021T142902Z
UID:15263-1741161600-1741366800@ocia.org
SUMMARY:Natural Products Expo West
DESCRIPTION:
URL:https://ocia.org/event/natural-products-expo-west-2/
LOCATION:Anaheim Convention Center
CATEGORIES:Trade Shows
END:VEVENT
BEGIN:VEVENT
DTSTART;TZID=America/Chicago:20250320T090000
DTEND;TZID=America/Chicago:20250320T160000
DTSTAMP:20260423T051125
CREATED:20241026T005212Z
LAST-MODIFIED:20241026T005212Z
UID:15282-1742461200-1742486400@ocia.org
SUMMARY:Organic Workshop
DESCRIPTION:
URL:https://ocia.org/event/organic-workshop/
LOCATION:Pottorf Hall\, 710 Avery Ave.\, Manhattan\, KS\, 66503\, United States
ATTACH;FMTTYPE=image/png:https://ocia.org/wp-content/uploads/2024/10/Organic-Workshop-Registration-Page-Image.png
END:VEVENT
BEGIN:VEVENT
DTSTART;TZID=America/Chicago:20250326T110000
DTEND;TZID=America/Chicago:20250326T120000
DTSTAMP:20260423T051125
CREATED:20250210T144631Z
LAST-MODIFIED:20250217T144944Z
UID:15831-1742986800-1742990400@ocia.org
SUMMARY:Organic Office Hours- OCIA
DESCRIPTION:Organic Crop Certification Made Simple\nMonthly Office Hours \n🌱 Thinking about organic certification but not sure where to start? \nJoin us for our free monthly webinar\, where we simplify the process with an organic certification specialist. \nWhat to Expect:\n✅ Expert insights on recordkeeping\, certification\, and developing your organic system plan\n✅ What to expect from your organic inspection\n✅ Live Q&A—bring your questions! \nEvent Details:\n📅 When: The last Wednesday of every month (Recurring Monthly)\n💻 Where: Online Click here to join \n🚜 Whether you’re just exploring\, already making the transition\, or ready to apply for organic certification we’re here to help.
URL:https://ocia.org/event/organic-office-hours-ocia-2/
CATEGORIES:TOPP: Office Hours
ORGANIZER;CN="Chelsea Priess":MAILTO:cpriess@ocia.org
END:VEVENT
END:VCALENDAR