BEGIN:VCALENDAR
VERSION:2.0
PRODID:-//OCIA - ECPv6.15.17//NONSGML v1.0//EN
CALSCALE:GREGORIAN
METHOD:PUBLISH
X-ORIGINAL-URL:https://ocia.org
X-WR-CALDESC:Events for OCIA
REFRESH-INTERVAL;VALUE=DURATION:PT1H
X-Robots-Tag:noindex
X-PUBLISHED-TTL:PT1H
BEGIN:VTIMEZONE
TZID:America/Chicago
BEGIN:DAYLIGHT
TZOFFSETFROM:-0600
TZOFFSETTO:-0500
TZNAME:CDT
DTSTART:20240310T080000
END:DAYLIGHT
BEGIN:STANDARD
TZOFFSETFROM:-0500
TZOFFSETTO:-0600
TZNAME:CST
DTSTART:20241103T070000
END:STANDARD
BEGIN:DAYLIGHT
TZOFFSETFROM:-0600
TZOFFSETTO:-0500
TZNAME:CDT
DTSTART:20250309T080000
END:DAYLIGHT
BEGIN:STANDARD
TZOFFSETFROM:-0500
TZOFFSETTO:-0600
TZNAME:CST
DTSTART:20251102T070000
END:STANDARD
BEGIN:DAYLIGHT
TZOFFSETFROM:-0600
TZOFFSETTO:-0500
TZNAME:CDT
DTSTART:20260308T080000
END:DAYLIGHT
BEGIN:STANDARD
TZOFFSETFROM:-0500
TZOFFSETTO:-0600
TZNAME:CST
DTSTART:20261101T070000
END:STANDARD
END:VTIMEZONE
BEGIN:VEVENT
DTSTART;VALUE=DATE:20250212
DTEND;VALUE=DATE:20250213
DTSTAMP:20260423T034107
CREATED:20240603T141801Z
LAST-MODIFIED:20250124T165944Z
UID:15014-1739318400-1739404799@ocia.org
SUMMARY:2025 Annual General Membership Meeting
DESCRIPTION:
URL:https://ocia.org/event/2025-agmm/
LOCATION:Holiday Inn\, 2202 River Road\, Council Bluffs\, IA\, 51501\, United States
END:VEVENT
BEGIN:VEVENT
DTSTART;TZID=America/Chicago:20250220T080000
DTEND;TZID=America/Chicago:20250222T170000
DTSTAMP:20260423T034107
CREATED:20241021T142428Z
LAST-MODIFIED:20241021T143139Z
UID:15260-1740038400-1740243600@ocia.org
SUMMARY:Marbleseed 2025
DESCRIPTION:
URL:https://ocia.org/event/marbleseed-2025/
LOCATION:La Crosse WI
CATEGORIES:Trade Shows
END:VEVENT
BEGIN:VEVENT
DTSTART;TZID=America/Chicago:20250225T090000
DTEND;TZID=America/Chicago:20250226T170000
DTSTAMP:20260423T034107
CREATED:20250109T150746Z
LAST-MODIFIED:20250109T150746Z
UID:15727-1740474000-1740589200@ocia.org
SUMMARY:Gary F. Zimmer two day Workshop
DESCRIPTION:Held at Best Western Ramkota Hotel\, 1400 8th Ave NW\, Aberdeen SD 57401 \nA two-day workshop by famed biological farming expert Gary F. Zimmer. Come and learn the secrets of sustainable and profitable biological agriculture from those who are doing it! February 25-26\, 2025. Registration starts at 8 AM\, with the presentation from 9 AM to 5 PM both days. Noon and evening meals\, plus snack breaks\, are included. Discounts are available for early registration. Contact wsecker@venturecomm.net for more information\, or text or call 605-282-9513. \nFacebook page https://www.facebook.com/ociasd1 \n \nLink to registration form: https://docs.google.com/…/16fznZc0oRLCWAPOlIz6M…/edit… \nCheck out Gary’s ag consulting business at  https://zimmerag.com/
URL:https://ocia.org/event/gary-f-zimmer-two-day-workshop/
LOCATION:Best Western Ramkota Hotel\, 2300 West Maple Street\, Sioux Falls\, SD\, 57107\, United States
END:VEVENT
BEGIN:VEVENT
DTSTART;TZID=America/Chicago:20250226T110000
DTEND;TZID=America/Chicago:20250226T120000
DTSTAMP:20260423T034107
CREATED:20250210T144132Z
LAST-MODIFIED:20250210T144132Z
UID:15816-1740567600-1740571200@ocia.org
SUMMARY:Organic Office Hours- OCIA
DESCRIPTION:Organic Crop Certification Made Simple\nMonthly Office Hours \n🌱 Thinking about organic certification but not sure where to start? \nJoin us for our free monthly webinar\, where we simplify the process with an organic certification specialist. \nWhat to Expect:\n✅ Expert insights on recordkeeping\, certification\, and developing your organic system plan\n✅ What to expect from your organic inspection\n✅ Live Q&A—bring your questions! \nEvent Details:\n📅 When: The last Wednesday of every month (Recurring Monthly)\n💻 Where: Online Click here to join\n🎟 Cost: Free \n🚜 Whether you’re just exploring\, already making the transition\, or ready to apply for organic certification we’re here to help.
URL:https://ocia.org/event/organic-office-hours-ocia/
CATEGORIES:TOPP: Office Hours
ORGANIZER;CN="Chelsea Priess":MAILTO:cpriess@ocia.org
END:VEVENT
END:VCALENDAR