BEGIN:VCALENDAR
VERSION:2.0
PRODID:-//OCIA - ECPv6.15.17//NONSGML v1.0//EN
CALSCALE:GREGORIAN
METHOD:PUBLISH
X-ORIGINAL-URL:https://ocia.org
X-WR-CALDESC:Events for OCIA
REFRESH-INTERVAL;VALUE=DURATION:PT1H
X-Robots-Tag:noindex
X-PUBLISHED-TTL:PT1H
BEGIN:VTIMEZONE
TZID:America/Chicago
BEGIN:DAYLIGHT
TZOFFSETFROM:-0600
TZOFFSETTO:-0500
TZNAME:CDT
DTSTART:20230312T080000
END:DAYLIGHT
BEGIN:STANDARD
TZOFFSETFROM:-0500
TZOFFSETTO:-0600
TZNAME:CST
DTSTART:20231105T070000
END:STANDARD
BEGIN:DAYLIGHT
TZOFFSETFROM:-0600
TZOFFSETTO:-0500
TZNAME:CDT
DTSTART:20240310T080000
END:DAYLIGHT
BEGIN:STANDARD
TZOFFSETFROM:-0500
TZOFFSETTO:-0600
TZNAME:CST
DTSTART:20241103T070000
END:STANDARD
BEGIN:DAYLIGHT
TZOFFSETFROM:-0600
TZOFFSETTO:-0500
TZNAME:CDT
DTSTART:20250309T080000
END:DAYLIGHT
BEGIN:STANDARD
TZOFFSETFROM:-0500
TZOFFSETTO:-0600
TZNAME:CST
DTSTART:20251102T070000
END:STANDARD
END:VTIMEZONE
BEGIN:VEVENT
DTSTART;TZID=America/Chicago:20240208T080000
DTEND;TZID=America/Chicago:20240208T170000
DTSTAMP:20260422T055856
CREATED:20231004T182237Z
LAST-MODIFIED:20240105T163455Z
UID:13433-1707379200-1707411600@ocia.org
SUMMARY:2024 OCIA AGMM
DESCRIPTION:OCIA International’s Annual General Membership Meeting will be held February 7-8\, 2024 at the Holiday Inn & Suites at Ameristar in Council Bluffs\, Iowa. Additional information about the AGMM can be found in the below packets. All accommodations must be booked separately from meeting registration. A block rate on rooms is available until January 16\, 2024. Please email market director Kelsey Sejkora at ksejkora@ocia.org for block rate link. \nAGMM 2024 Packet [English]   ||   AGMM 2024 Packet [Spanish] \nCan’t make it to the in-person meeting? Not a problem! All OCIA Chapter Members and Direct Associates are welcome to attend the AGMM virtually. Use the link below to register: \nhttps://us02web.zoom.us/webinar/register/WN_c82CIZ-iTNK1b3IUG4iOGA
URL:https://ocia.org/event/2024-annual-ocia-agmm/
CATEGORIES:Farm Tours,Trade Shows
END:VEVENT
BEGIN:VEVENT
DTSTART;TZID=America/Chicago:20240222T080000
DTEND;TZID=America/Chicago:20240224T170000
DTSTAMP:20260422T055856
CREATED:20231218T190808Z
LAST-MODIFIED:20231218T190808Z
UID:14266-1708588800-1708794000@ocia.org
SUMMARY:Marbleseed Organic Farming Conference
DESCRIPTION:
URL:https://ocia.org/event/marbleseed-organic-farming-conference/
LOCATION:La Crosse Center\, 300 Harborview Plaza\, La Crosse\, WI\, 54601\, United States
END:VEVENT
END:VCALENDAR