BEGIN:VCALENDAR
VERSION:2.0
PRODID:-//OCIA - ECPv6.15.17//NONSGML v1.0//EN
CALSCALE:GREGORIAN
METHOD:PUBLISH
X-WR-CALNAME:OCIA
X-ORIGINAL-URL:https://ocia.org
X-WR-CALDESC:Events for OCIA
REFRESH-INTERVAL;VALUE=DURATION:PT1H
X-Robots-Tag:noindex
X-PUBLISHED-TTL:PT1H
BEGIN:VTIMEZONE
TZID:America/Chicago
BEGIN:DAYLIGHT
TZOFFSETFROM:-0600
TZOFFSETTO:-0500
TZNAME:CDT
DTSTART:20210314T080000
END:DAYLIGHT
BEGIN:STANDARD
TZOFFSETFROM:-0500
TZOFFSETTO:-0600
TZNAME:CST
DTSTART:20211107T070000
END:STANDARD
BEGIN:DAYLIGHT
TZOFFSETFROM:-0600
TZOFFSETTO:-0500
TZNAME:CDT
DTSTART:20220313T080000
END:DAYLIGHT
BEGIN:STANDARD
TZOFFSETFROM:-0500
TZOFFSETTO:-0600
TZNAME:CST
DTSTART:20221106T070000
END:STANDARD
BEGIN:DAYLIGHT
TZOFFSETFROM:-0600
TZOFFSETTO:-0500
TZNAME:CDT
DTSTART:20230312T080000
END:DAYLIGHT
BEGIN:STANDARD
TZOFFSETFROM:-0500
TZOFFSETTO:-0600
TZNAME:CST
DTSTART:20231105T070000
END:STANDARD
END:VTIMEZONE
BEGIN:VEVENT
DTSTART;VALUE=DATE:20221204
DTEND;VALUE=DATE:20221210
DTSTAMP:20260421T103932
CREATED:20220427T154313Z
LAST-MODIFIED:20220427T154313Z
UID:11051-1670194800-1670626799@ocia.org
SUMMARY:ACRES: Eco-Ag Conference & Trade Show in Covington\, KY
DESCRIPTION:ACRES: Eco-Ag Conference & Trade Show in Covington\, KY / Dec 5-9\, 2022 https://ecoag.acresusa.com/
URL:https://ocia.org/event/acres-eco-ag-conference-trade-show-in-covington-ky/
CATEGORIES:Trade Shows
END:VEVENT
BEGIN:VEVENT
DTSTART;TZID=America/Chicago:20221210T120000
DTEND;TZID=America/Chicago:20221210T150000
DTSTAMP:20260421T103932
CREATED:20221117T230920Z
LAST-MODIFIED:20221117T230920Z
UID:11394-1670673600-1670684400@ocia.org
SUMMARY:OCIA NE Chapter #1 Meeting / Dec 10th\, 2022 from 1:15pm-4pm
DESCRIPTION:OCIA NE Chapter #1 Meeting / Dec 10th\, 2022 from 1:15pm-4pm / Schuchardt Farms in Elgin\, NE / Free and open to the public\, call Kim Mosel at 402-620-2701 for more information. \nORGANIC CROP IMPROVEMENT ASSOCIATION NEBRASKA  \nORGANIC SPEAKER EVENT \n Because of your interest you have shown; OCIA Nebraska would like to extend a special invitation to our annual member gathering event. \n When: Saturday December 10\, 2022 \nWhere: Schuchardt Farms (OCIA Nebraska Member)\nRick & Jane Schuchardt\n84151 523rd Ave.\nElgin\, Nebraska 68636 \n                        https://schuchardtfarms.com/ \nOpen to the public @ no charge and no registration is required\, attendees can come or stay for any of the below given times.  \n  \n           1:15 p.m.                  “Market Update”  \n              Kate Hoegermeyer:  Scoular Grain   www.scoular.com \n            2:00 p.m.                 “Soil Health”  \n             “Why the need for Sulfur in Cropping Systems of the Midwest” \n                                            Dennis Reinke: Agronomist \n            3:00 p.m.               “OCIA Farmer Round Table Discussion” \n             Questions and Answers about Certified Organic Farming among me \n   Come meet our organic farmers and bring a friend. We would like to meet you.     \n  For more information about this event; Contact Kim @ 402-620-2701\, ociane1@yahoo.com  \nVisit our website www.nebraskaocia.org \n Connect with us on Facebook: Nebraska Organic Crop Improvement Association Chapter 1.
URL:https://ocia.org/event/ocia-ne-chapter-1-meeting-dec-10th-2022-from-115pm-4pm/
END:VEVENT
END:VCALENDAR