BEGIN:VCALENDAR
VERSION:2.0
PRODID:-//OCIA - ECPv6.15.17//NONSGML v1.0//EN
CALSCALE:GREGORIAN
METHOD:PUBLISH
X-ORIGINAL-URL:https://ocia.org
X-WR-CALDESC:Events for OCIA
REFRESH-INTERVAL;VALUE=DURATION:PT1H
X-Robots-Tag:noindex
X-PUBLISHED-TTL:PT1H
BEGIN:VTIMEZONE
TZID:America/Chicago
BEGIN:DAYLIGHT
TZOFFSETFROM:-0600
TZOFFSETTO:-0500
TZNAME:CDT
DTSTART:20210314T080000
END:DAYLIGHT
BEGIN:STANDARD
TZOFFSETFROM:-0500
TZOFFSETTO:-0600
TZNAME:CST
DTSTART:20211107T070000
END:STANDARD
BEGIN:DAYLIGHT
TZOFFSETFROM:-0600
TZOFFSETTO:-0500
TZNAME:CDT
DTSTART:20220313T080000
END:DAYLIGHT
BEGIN:STANDARD
TZOFFSETFROM:-0500
TZOFFSETTO:-0600
TZNAME:CST
DTSTART:20221106T070000
END:STANDARD
BEGIN:DAYLIGHT
TZOFFSETFROM:-0600
TZOFFSETTO:-0500
TZNAME:CDT
DTSTART:20230312T080000
END:DAYLIGHT
BEGIN:STANDARD
TZOFFSETFROM:-0500
TZOFFSETTO:-0600
TZNAME:CST
DTSTART:20231105T070000
END:STANDARD
END:VTIMEZONE
BEGIN:VEVENT
DTSTART;VALUE=DATE:20220708
DTEND;VALUE=DATE:20220710
DTSTAMP:20260421T183427
CREATED:20220125T214337Z
LAST-MODIFIED:20220125T214337Z
UID:10859-1657238400-1657411199@ocia.org
SUMMARY:Organic Alberta Conference
DESCRIPTION:Organic Alberta Conference in Stony Plain\, AB / July 8-9\, 2022 / https://organicalberta.org/wp-content/uploads/sites/2/2022/01/2022-Sponsorship.pdf
URL:https://ocia.org/event/organic-alberta-conference-3/
CATEGORIES:Trade Shows
END:VEVENT
BEGIN:VEVENT
DTSTART;TZID=America/Chicago:20220716T083000
DTEND;TZID=America/Chicago:20220716T160000
DTSTAMP:20260421T183427
CREATED:20220713T205019Z
LAST-MODIFIED:20220713T205019Z
UID:11197-1657960200-1657987200@ocia.org
SUMMARY:Grain Place Foundation Field Day
DESCRIPTION:Grain Place Foundation Field Day / July 16th\, 2022 in Marquette\, NE  /  http://www.grainplacefoundation.org/fieldday/
URL:https://ocia.org/event/grain-place-foundation-field-day/
CATEGORIES:Farm Tours
END:VEVENT
END:VCALENDAR